BEGIN:VCALENDAR
VERSION:2.0
PRODID:-//eventon.com NONSGML v1.0//EN
CALSCALE:GREGORIAN
METHOD:PUBLISH
BEGIN:VEVENT
UID:69e73db4c90d5
DTSTAMP:20260421T090452Z
DTSTART:20260406T113000Z
DTEND:20260406T235900Z
LOCATION:
SUMMARY:Book & Breakfast im Klassik Altstadt Hotel & Tatort St.-Marien-Kirche
DESCRIPTION:Das Klassik Altstadt Hotel lädt am Ostermontag\,  6. April 
 2026\,  zu einem besonderen Krimi-Erlebnis ein. Startet in den Tag mit eine
 m gemütlichen BOOK &amp; BREAKAST &#8211; inklusive kleiner Osterleckerei
 en wie Niederegger-Ostereiern und persönlichen Begegnungen mit der SPIEG
 EL-Bestsellerautorin Eva Almstädt. Ihren neuen Ostseekrimi „Ostseehöl
 le“könnt ihr direkt vor Ort erwerben und signieren lassen. Im Anschluss 
 geht es gemeinsam zur Marienkirche &#8211;[..]\nhttps://literaturforumlueb
 eck.de/events/book-breakfast-im-klassik-altstadt-hotel-tatort-st-marien-kir
 che/
URL:https://literaturforumluebeck.de/events/book-breakfast-im-klassik-altstadt-hotel-tatort-st-marien-kirche/
END:VEVENT
END:VCALENDAR