BEGIN:VCALENDAR
VERSION:2.0
PRODID:-//eventon.com NONSGML v1.0//EN
CALSCALE:GREGORIAN
METHOD:PUBLISH
BEGIN:VEVENT
UID:69e750953896d
DTSTAMP:20260421T102525Z
DTSTART:20260331T190000Z
DTEND:20260331T235900Z
LOCATION:
SUMMARY:Premierenlesung „Ostseehölle“ – Eva Almstädt live in St. Marien
DESCRIPTION:Am&nbsp;31. März 2026&nbsp;wird die&nbsp;St. Marien Kirche in 
 Lübeck&nbsp;zum Schauplatz eines unvergesslichen Krimiabends: Bestsellerau
 torin&nbsp;Eva Almstädt&nbsp;liest exklusiv aus ihrem brandneuen Ostsee-Kr
 imi&nbsp;„Ostseehölle“&nbsp;– einen Tag nach dem offiziellen Erschei
 nungstermin am 30. März 2026. Ihr könnt eine der ersten Personen sein\,  
 die den Nervenkitzel dieses neuen Pia Korittki-Falls hautnah erleben. Spann
 ung\,  die unter die Haut[..]\nhttps://literaturforumluebeck.de/events/prem
 ierenlesung-ostseehoelle-eva-almstaedt-live-in-st-marien/
URL:https://literaturforumluebeck.de/events/premierenlesung-ostseehoelle-eva-almstaedt-live-in-st-marien/
END:VEVENT
END:VCALENDAR