BEGIN:VCALENDAR
VERSION:2.0
PRODID:-//eventon.com NONSGML v1.0//EN
CALSCALE:GREGORIAN
METHOD:PUBLISH
BEGIN:VEVENT
UID:69e72e397c96c
DTSTAMP:20260421T075849Z
DTSTART:20241026T160000Z
DTEND:20241026T215900Z
LOCATION:Restaurant Meilenstein Königstraße 5
SUMMARY:Magisches Dinner auf dem Zauberberg
DESCRIPTION:In Kooperation mit dem Buddenbrookhaus heißen wir Sie herzlich
  willkommen zu unserem magischen Dinner\,  inspiriert von Thomas Mann Meist
 erwerk „Zauberberg“.Tauchen Sie ein die Welt des Luxussanatoriums Bergh
 of und erleben eine kulinarische Reise\,  die alle Sinne verzaubern wird.Ge
 nießen Sie im festlich geschmückten Saal exquisite Speisen und erlesene W
 eine\,  während Sie sich[..]\nhttps://literaturforumluebeck.de/events/magi
 sches-dinner-auf-dem-zauberberg/
URL:https://literaturforumluebeck.de/events/magisches-dinner-auf-dem-zauberberg/
END:VEVENT
END:VCALENDAR